BEGIN:VCALENDAR
VERSION:2.0
PRODID:-//Constructing Excellence Manchester - ECPv6.15.17.1//NONSGML v1.0//EN
CALSCALE:GREGORIAN
METHOD:PUBLISH
X-WR-CALNAME:Constructing Excellence Manchester
X-ORIGINAL-URL:https://cemanchester.org.uk
X-WR-CALDESC:Events for Constructing Excellence Manchester
REFRESH-INTERVAL;VALUE=DURATION:PT1H
X-Robots-Tag:noindex
X-PUBLISHED-TTL:PT1H
BEGIN:VTIMEZONE
TZID:Europe/London
BEGIN:DAYLIGHT
TZOFFSETFROM:+0000
TZOFFSETTO:+0100
TZNAME:BST
DTSTART:20220327T010000
END:DAYLIGHT
BEGIN:STANDARD
TZOFFSETFROM:+0100
TZOFFSETTO:+0000
TZNAME:GMT
DTSTART:20221030T010000
END:STANDARD
BEGIN:DAYLIGHT
TZOFFSETFROM:+0000
TZOFFSETTO:+0100
TZNAME:BST
DTSTART:20230326T010000
END:DAYLIGHT
BEGIN:STANDARD
TZOFFSETFROM:+0100
TZOFFSETTO:+0000
TZNAME:GMT
DTSTART:20231029T010000
END:STANDARD
BEGIN:DAYLIGHT
TZOFFSETFROM:+0000
TZOFFSETTO:+0100
TZNAME:BST
DTSTART:20240331T010000
END:DAYLIGHT
BEGIN:STANDARD
TZOFFSETFROM:+0100
TZOFFSETTO:+0000
TZNAME:GMT
DTSTART:20241027T010000
END:STANDARD
END:VTIMEZONE
BEGIN:VEVENT
DTSTART;TZID=Europe/London:20230914T080000
DTEND;TZID=Europe/London:20230914T100000
DTSTAMP:20260423T083144
CREATED:20230825T114023Z
LAST-MODIFIED:20230825T114023Z
UID:13901-1694678400-1694685600@cemanchester.org.uk
SUMMARY:Skills shortages in Construction
DESCRIPTION:In the aftermath of the 2009 recession\, the industry was struggling with 14\,000 job vacancies that remained unfilled. Fast forward to 2022\, and this figure has surged to a daunting 45\,000. The situation is further compounded by an aging workforce and a dearth of new entrants\, suggesting no imminent improvement. \nAnd that’s just taking in account the skills for today’s industry – as digitalisation grows and the implementation of ambitious initiatives like the decarbonisation of major estates such as the NHS and education\, the call for fresh skills and a more sustainable construction approach becomes ever more pressing. \nIn our September seminar\, we will hear from Nicola Hodkinson\, the owner and director of Seddon Construction Ltd. Nicola takes immense pride in the fact that over 10% of her workforce is engaged in ‘earn and learn’ contracts. Her mission is to galvanize the broader industry\, spanning from the supply chain to clients\, to proactively explore avenues for enhancing and upskilling our workforce. 
URL:https://cemanchester.org.uk/event/skills-shortages-in-construction/
LOCATION:University of Bolton\, Room Y0-02\, Greater Manchester Business School\, Great Moor Street\, Bolton\, BL1 1SW
ATTACH;FMTTYPE=application/pdf:https://cemanchester.org.uk/wp-content/uploads/sites/10/2023/08/Skills-Shortage.pdf
END:VEVENT
END:VCALENDAR