BEGIN:VCALENDAR
VERSION:2.0
PRODID:-//Constructing Excellence Manchester - ECPv6.15.17.1//NONSGML v1.0//EN
CALSCALE:GREGORIAN
METHOD:PUBLISH
X-ORIGINAL-URL:https://cemanchester.org.uk
X-WR-CALDESC:Events for Constructing Excellence Manchester
REFRESH-INTERVAL;VALUE=DURATION:PT1H
X-Robots-Tag:noindex
X-PUBLISHED-TTL:PT1H
BEGIN:VTIMEZONE
TZID:Europe/London
BEGIN:DAYLIGHT
TZOFFSETFROM:+0000
TZOFFSETTO:+0100
TZNAME:BST
DTSTART:20230326T010000
END:DAYLIGHT
BEGIN:STANDARD
TZOFFSETFROM:+0100
TZOFFSETTO:+0000
TZNAME:GMT
DTSTART:20231029T010000
END:STANDARD
BEGIN:DAYLIGHT
TZOFFSETFROM:+0000
TZOFFSETTO:+0100
TZNAME:BST
DTSTART:20240331T010000
END:DAYLIGHT
BEGIN:STANDARD
TZOFFSETFROM:+0100
TZOFFSETTO:+0000
TZNAME:GMT
DTSTART:20241027T010000
END:STANDARD
BEGIN:DAYLIGHT
TZOFFSETFROM:+0000
TZOFFSETTO:+0100
TZNAME:BST
DTSTART:20250330T010000
END:DAYLIGHT
BEGIN:STANDARD
TZOFFSETFROM:+0100
TZOFFSETTO:+0000
TZNAME:GMT
DTSTART:20251026T010000
END:STANDARD
END:VTIMEZONE
BEGIN:VEVENT
DTSTART;TZID=Europe/London:20240516T153000
DTEND;TZID=Europe/London:20240516T180000
DTSTAMP:20260422T190053
CREATED:20240206T114057Z
LAST-MODIFIED:20240429T125503Z
UID:14656-1715873400-1715882400@cemanchester.org.uk
SUMMARY:Digital Construction -Integrating AI into your processes
DESCRIPTION:We are delighted to have two excellent speakers to debate and discuss the practical applications of AI and digital Twins in construction. The seminar is aimed at closing the gap between the theory and practice of Artificial Intelligence and Digital Twins in construction.  How can these technologies be practically used – allowing firms to create\, manage and make use of the quality and timely information captured.  Where are the opportunities for firms to develop their business models to contribute to delivering zero carbon\, safe\, high-quality buildings and infrastructure that really meet people’s needs?\nANNOUNCEMENT OF THE 2024 NWRCA SHORT-LIST \nSponsored by Tilbury Douglas
URL:https://cemanchester.org.uk/event/digital-construction-integrating-ai-into-your-processes/
LOCATION:University of Salford – SEE Building\, Salford
ORGANIZER;CN="emma":MAILTO:emma.millward@tilburydouglas.co.uk
END:VEVENT
END:VCALENDAR