BEGIN:VCALENDAR
VERSION:2.0
PRODID:-//Constructing Excellence Manchester - ECPv6.15.17.1//NONSGML v1.0//EN
CALSCALE:GREGORIAN
METHOD:PUBLISH
X-ORIGINAL-URL:https://cemanchester.org.uk
X-WR-CALDESC:Events for Constructing Excellence Manchester
REFRESH-INTERVAL;VALUE=DURATION:PT1H
X-Robots-Tag:noindex
X-PUBLISHED-TTL:PT1H
BEGIN:VTIMEZONE
TZID:Europe/London
BEGIN:DAYLIGHT
TZOFFSETFROM:+0000
TZOFFSETTO:+0100
TZNAME:BST
DTSTART:20230326T010000
END:DAYLIGHT
BEGIN:STANDARD
TZOFFSETFROM:+0100
TZOFFSETTO:+0000
TZNAME:GMT
DTSTART:20231029T010000
END:STANDARD
BEGIN:DAYLIGHT
TZOFFSETFROM:+0000
TZOFFSETTO:+0100
TZNAME:BST
DTSTART:20240331T010000
END:DAYLIGHT
BEGIN:STANDARD
TZOFFSETFROM:+0100
TZOFFSETTO:+0000
TZNAME:GMT
DTSTART:20241027T010000
END:STANDARD
BEGIN:DAYLIGHT
TZOFFSETFROM:+0000
TZOFFSETTO:+0100
TZNAME:BST
DTSTART:20250330T010000
END:DAYLIGHT
BEGIN:STANDARD
TZOFFSETFROM:+0100
TZOFFSETTO:+0000
TZNAME:GMT
DTSTART:20251026T010000
END:STANDARD
END:VTIMEZONE
BEGIN:VEVENT
DTSTART;TZID=Europe/London:20240704T120000
DTEND;TZID=Europe/London:20240704T123000
DTSTAMP:20260422T152505
CREATED:20240307T094707Z
LAST-MODIFIED:20240429T131732Z
UID:14896-1720094400-1720096200@cemanchester.org.uk
SUMMARY:Webinar: CE Behavioural Framework – Focussing on behaviours to drive better culture
DESCRIPTION:Alison Nicholl\, Head of Constructing Excellence\, discusses a new framework designed to support a better culture across the industry.
URL:https://cemanchester.org.uk/event/webinar-ce-behavioural-framework-focussing-on-behaviours-to-drive-better-culture/
LOCATION:Online
ORGANIZER;CN="Katy Harris":MAILTO:hello@cemanchester.onmicrosoft.com
END:VEVENT
END:VCALENDAR