BEGIN:VCALENDAR
VERSION:2.0
PRODID:-//Constructing Excellence Manchester - ECPv6.15.17.1//NONSGML v1.0//EN
CALSCALE:GREGORIAN
METHOD:PUBLISH
X-WR-CALNAME:Constructing Excellence Manchester
X-ORIGINAL-URL:https://cemanchester.org.uk
X-WR-CALDESC:Events for Constructing Excellence Manchester
REFRESH-INTERVAL;VALUE=DURATION:PT1H
X-Robots-Tag:noindex
X-PUBLISHED-TTL:PT1H
BEGIN:VTIMEZONE
TZID:Europe/London
BEGIN:DAYLIGHT
TZOFFSETFROM:+0000
TZOFFSETTO:+0100
TZNAME:BST
DTSTART:20230326T010000
END:DAYLIGHT
BEGIN:STANDARD
TZOFFSETFROM:+0100
TZOFFSETTO:+0000
TZNAME:GMT
DTSTART:20231029T010000
END:STANDARD
BEGIN:DAYLIGHT
TZOFFSETFROM:+0000
TZOFFSETTO:+0100
TZNAME:BST
DTSTART:20240331T010000
END:DAYLIGHT
BEGIN:STANDARD
TZOFFSETFROM:+0100
TZOFFSETTO:+0000
TZNAME:GMT
DTSTART:20241027T010000
END:STANDARD
BEGIN:DAYLIGHT
TZOFFSETFROM:+0000
TZOFFSETTO:+0100
TZNAME:BST
DTSTART:20250330T010000
END:DAYLIGHT
BEGIN:STANDARD
TZOFFSETFROM:+0100
TZOFFSETTO:+0000
TZNAME:GMT
DTSTART:20251026T010000
END:STANDARD
BEGIN:DAYLIGHT
TZOFFSETFROM:+0000
TZOFFSETTO:+0100
TZNAME:BST
DTSTART:20260329T010000
END:DAYLIGHT
BEGIN:STANDARD
TZOFFSETFROM:+0100
TZOFFSETTO:+0000
TZNAME:GMT
DTSTART:20261025T010000
END:STANDARD
BEGIN:DAYLIGHT
TZOFFSETFROM:+0000
TZOFFSETTO:+0100
TZNAME:BST
DTSTART:20270328T010000
END:DAYLIGHT
BEGIN:STANDARD
TZOFFSETFROM:+0100
TZOFFSETTO:+0000
TZNAME:GMT
DTSTART:20271031T010000
END:STANDARD
END:VTIMEZONE
BEGIN:VEVENT
DTSTART;TZID=Europe/London:20240926T080000
DTEND;TZID=Europe/London:20240926T100000
DTSTAMP:20260423T000411
CREATED:20240206T115055Z
LAST-MODIFIED:20240206T115209Z
UID:14664-1727337600-1727344800@cemanchester.org.uk
SUMMARY:The NW Regional Construction Award Winners - sharing their best practice
DESCRIPTION:Sponsored by Seddon/Parkinsons
URL:https://cemanchester.org.uk/event/the-nw-regional-construction-award-winners-sharing-their-best-practice/
LOCATION:Greater Manchester Chamber of Commerce\, Manchester\, United Kingdom
END:VEVENT
BEGIN:VEVENT
DTSTART;TZID=Europe/London:20241128T080000
DTEND;TZID=Europe/London:20241128T100000
DTSTAMP:20260423T000411
CREATED:20241111T141525Z
LAST-MODIFIED:20241111T141550Z
UID:16490-1732780800-1732788000@cemanchester.org.uk
SUMMARY:Merging for success | Enhancing NHS efficiency and procurement
DESCRIPTION:Join our panel of NHS estates experts discussing mergers in the NHS\, focusing on efficiencies\, improved procurement outcomes\, and the careful planning necessary to ensure alignment with the Trust’s goals and values. \nSponsored by Tilbury Douglas and MDG Architects\, in support of CRADLE charity and DKMS. \nThe Constructing Excellence Greater Manchester team and our panel look forward to welcoming you to this event on Thursday 28th November 2024. \nPanel guests \nIan Stenton\, Head of Estates Sustainability\, NHS England \nIn his role\, Ian leads initiatives focused on reducing the environmental impact of healthcare services and enhancing sustainability practices across the NHS. With a commitment to achieving net-zero carbon emissions and promoting resource efficiency\, he oversees strategic projects that aim to minimise waste\, improve energy efficiency\, and drive sustainable procurement within the healthcare sector. \nPaul Fitzpatrick\, Director of Estates & Facilities\, Liverpool University Hospitals NHS FT With 35+ years in healthcare\, Paul has transformed Estates and Facilities at Liverpool hospitals\, overseeing £1bn in projects and driving sustainability. In 2023\, he insourced soft FM services\, creating 1\,750 NHS jobs. His strategic vision enhances operations and fosters continuous improvement. \nMichelle Waddicor\, MCIOB\, Head of Capital Projects\, Stockport NHS Foundation Trust\nMichelle oversees the Estates and Facilities Capital Programme at Stockport NHS Foundation Trust\, having joined in 2020 after working as a consultant Project Manager. She leads key improvements at Stepping Hill Hospital\, including the £34m Emergency and Urgent Care Campus. Passionate about quality and patient-focused care\, she is committed to making a positive impact on people’s lives. \nIan Wright\, Assistant Director\, Estates and Facilities\, Mersey and West Lancashire Teaching Hospitals \nIan recently joined Mersey and West Lancashire Teaching Hospitals from Warrington and Halton Teaching Hospitals NHS Foundation Trust\, where he played a key role in managing major projects including the new Same Day Emergency Car Centre. With extensive experience in estate operations\, he focuses on creating efficient\, patient-centred environments across the hospital network. \nSuzanne MacCormick\, Clinical Planner and Healthcare Specialist\, Spencer Harrison \nSuzanne is a clinical planner and clinician focused on delivering clinical excellence. She helps global clients create efficient clinical models that shape healthcare environments\, integrating design with optimal service flow. With extensive experience in capital projects\, she shows how healthcare facilities can support clinical goals. \nCharity partners for this event CRADLE & DKMS \nLouise Jackson Zeniou\, Director CRADLE CIC | Founder CRADLE Charity \nCRADLE charity provides free pregnancy loss resources to the NHS\, and emotional support to patients and families. CRADLE CIC is funded by the Construction Sector through Social Value Partnerships\, and provides expert training to Health professionals and students\, and advice in relation to the design of Health Estates. \nwww.cradlecharity.org \nLouise Clague\, Donor Recruitment Manager\, DKMS \nDKMS is a global organisation that fights blood cancer by registering potential blood stem cell donors and raising awareness. Giving blood cancer patients a second chance at life. \nwww.dkms.org.uk
URL:https://cemanchester.org.uk/event/merging-for-success-enhancing-nhs-efficiency-and-procurement/
LOCATION:Greater Manchester Chamber of Commerce\, Elliot House\, 151 Deansgate\, Manchester\, M3 3WD\, United Kingdom
ATTACH;FMTTYPE=image/jpeg:https://cemanchester.org.uk/wp-content/uploads/sites/10/2024/11/Screenshot-2024-11-11-141210.jpg
ORGANIZER;CN="Emma Millward":MAILTO:emma.millward@tilburydouglas.co.uk
END:VEVENT
BEGIN:VEVENT
DTSTART;TZID=Europe/London:20250327T080000
DTEND;TZID=Europe/London:20250327T100000
DTSTAMP:20260423T000411
CREATED:20250318T132450Z
LAST-MODIFIED:20250318T132450Z
UID:17828-1743062400-1743069600@cemanchester.org.uk
SUMMARY:The Building Safety Act - In Practice
DESCRIPTION:Welcome to The Building Safety Act – in practice event! \nJoin us for an insightful session where we delve into the practical aspects of The Building Safety Act. Learn from industry experts about how this legislation is being implemented and its impact on building safety standards. This in-person event is a great opportunity to network\, ask questions\, and gain valuable insights into ensuring safety in the built environment. \nSpeakers include Morgan Sindall and Turner & Townsend\, followed by a panel Q&A hosted by Trowers. \nA networking breakfast will be available from 8am with the event starting at 8.30am.
URL:https://cemanchester.org.uk/event/the-building-safety-act-in-practice/
LOCATION:Trowers and Hamlins 55 Princess Street Manchester M2 4EW\, 55 Princess Street\, Manchester\, M2 4EW\, United Kingdom
ORGANIZER;CN="Katy Harris":MAILTO:hello@cemanchester.onmicrosoft.com
END:VEVENT
BEGIN:VEVENT
DTSTART;TZID=Europe/London:20250923T080000
DTEND;TZID=Europe/London:20250923T100000
DTSTAMP:20260423T000411
CREATED:20250814T111734Z
LAST-MODIFIED:20250814T111754Z
UID:19045-1758614400-1758621600@cemanchester.org.uk
SUMMARY:Collaborating for Better Healthcare
DESCRIPTION:Join Tilbury Douglas and Constructing Excellence Manchester for a live panel discussion exploring how healthcare estates projects are driving clinical transformation and what this means for those designing\, delivering\, and supporting them.\nThis is a must attend event for anyone looking to understand how NHS Trusts approach capital projects\, how key decisions are made\, and how supply chain partners can better align with healthcare clients.
URL:https://cemanchester.org.uk/event/collaborating-for-better-healthcare/
LOCATION:Trowers and Hamlins 55 Princess Street Manchester M2 4EW\, 55 Princess Street\, Manchester\, M2 4EW\, United Kingdom
ATTACH;FMTTYPE=image/jpeg:https://cemanchester.org.uk/wp-content/uploads/sites/10/2025/08/Collaborating-for-better-healthcare-CE.jpg
ORGANIZER;CN="Katy Harris":MAILTO:hello@cemanchester.onmicrosoft.com
END:VEVENT
BEGIN:VEVENT
DTSTART;TZID=Europe/London:20251010T120000
DTEND;TZID=Europe/London:20251010T130000
DTSTAMP:20260423T000411
CREATED:20250916T141528Z
LAST-MODIFIED:20250923T134456Z
UID:19237-1760097600-1760101200@cemanchester.org.uk
SUMMARY:Free Webinar: Understanding PPN 06/21: Producing a compliant Carbon Reduction Plan
DESCRIPTION:PPN 06/21 sets out the requirement for suppliers bidding on major central government contracts to submit a Carbon Reduction Plan and commit to achieving Net Zero by 2050. But what does this mean in practical terms — especially for SMEs? \nHosted by Turner & Townsend\, this session brings together SME contractors and public sector clients to explore how PPN 06/21 is reshaping procurement and what support is available to help small businesses respond effectively. \nFrom developing credible carbon reduction plans to understanding how clients are embedding carbon requirements into tenders\, we’ll offer clear\, practical advice from both sides of the procurement table. This is a chance for SME suppliers to prepare for future bids — and for clients to engage suppliers in a meaningful\, constructive way that supports net zero goals. \nWhat you’ll gain: \nA breakdown of what PPN 06/21 requires and how it applies to organisations\nPractical support and tools available to help SMEs develop Carbon Reduction Plans\nInsights into how clients are reflecting carbon requirements in tender documents\nAn opportunity to strengthen collaboration between clients and suppliers through Constructing Excellence Manchester’s network \nWhether you’re a contractor looking to stay eligible for public work\, or a client aiming to embed net zero in procurement\, this session delivers essential insight and real value. \nOnce you have got a ticket we will send a link over to you for the webinar.
URL:https://cemanchester.org.uk/event/free-webinar-understanding-ppn-06-21-producing-a-compliant-carbon-reduction-plan/
LOCATION:Online
ATTACH;FMTTYPE=image/jpeg:https://cemanchester.org.uk/wp-content/uploads/sites/10/2025/09/Carbon-Reduction-in-public-procurement-1.jpg
ORGANIZER;CN="Katy Harris":MAILTO:hello@cemanchester.onmicrosoft.com
END:VEVENT
BEGIN:VEVENT
DTSTART;TZID=Europe/London:20251127T130000
DTEND;TZID=Europe/London:20251127T163000
DTSTAMP:20260423T000411
CREATED:20250814T154226Z
LAST-MODIFIED:20251104T144359Z
UID:19048-1764248400-1764261000@cemanchester.org.uk
SUMMARY:Construction 2025 & Beyond: Progress\, Challenges\, and the Future Industry
DESCRIPTION:Stay tuned for more information for what will be our biggest event yet!  \nWe have got some amazing speakers lined up for our two keynotes and 6 breakout spaces\, of which attendees will be able to pick their two favourite. Spots on the breakouts are limited so it will be run on a first come first serve basis. \nThis event will be run in collaboration with CE Liverpool and G4C Northwest.
URL:https://cemanchester.org.uk/event/construction-2025-beyond-progress-challenges-and-the-future-industry/
LOCATION:People’s History Museum\, Left Bank\, Spinningfields\, Manchester\, M3 3ER\, United Kingdom
ORGANIZER;CN="Katy Harris":MAILTO:hello@cemanchester.onmicrosoft.com
END:VEVENT
BEGIN:VEVENT
DTSTART;TZID=Europe/London:20260226T080000
DTEND;TZID=Europe/London:20260226T100000
DTSTAMP:20260423T000411
CREATED:20260120T082930Z
LAST-MODIFIED:20260120T082930Z
UID:19762-1772092800-1772100000@cemanchester.org.uk
SUMMARY:Gold Standard Construction Frameworks Panel Event
DESCRIPTION:Join Katy Saunders\, CHIC and others for a panel event all about the new Gold Standard framework.
URL:https://cemanchester.org.uk/event/gold-standard-construction-frameworks-panel-event/
LOCATION:Trowers and Hamlins 55 Princess Street Manchester M2 4EW\, 55 Princess Street\, Manchester\, M2 4EW\, United Kingdom
ATTACH;FMTTYPE=image/jpeg:https://cemanchester.org.uk/wp-content/uploads/sites/10/2026/01/Framework-6.jpg
ORGANIZER;CN="Katy Harris":MAILTO:hello@cemanchester.onmicrosoft.com
END:VEVENT
END:VCALENDAR