BEGIN:VCALENDAR
VERSION:2.0
PRODID:-//Constructing Excellence Manchester - ECPv6.15.17.1//NONSGML v1.0//EN
CALSCALE:GREGORIAN
METHOD:PUBLISH
X-WR-CALNAME:Constructing Excellence Manchester
X-ORIGINAL-URL:https://cemanchester.org.uk
X-WR-CALDESC:Events for Constructing Excellence Manchester
REFRESH-INTERVAL;VALUE=DURATION:PT1H
X-Robots-Tag:noindex
X-PUBLISHED-TTL:PT1H
BEGIN:VTIMEZONE
TZID:Europe/London
BEGIN:DAYLIGHT
TZOFFSETFROM:+0000
TZOFFSETTO:+0100
TZNAME:BST
DTSTART:20190331T010000
END:DAYLIGHT
BEGIN:STANDARD
TZOFFSETFROM:+0100
TZOFFSETTO:+0000
TZNAME:GMT
DTSTART:20191027T010000
END:STANDARD
BEGIN:DAYLIGHT
TZOFFSETFROM:+0000
TZOFFSETTO:+0100
TZNAME:BST
DTSTART:20200329T010000
END:DAYLIGHT
BEGIN:STANDARD
TZOFFSETFROM:+0100
TZOFFSETTO:+0000
TZNAME:GMT
DTSTART:20201025T010000
END:STANDARD
BEGIN:DAYLIGHT
TZOFFSETFROM:+0000
TZOFFSETTO:+0100
TZNAME:BST
DTSTART:20210328T010000
END:DAYLIGHT
BEGIN:STANDARD
TZOFFSETFROM:+0100
TZOFFSETTO:+0000
TZNAME:GMT
DTSTART:20211031T010000
END:STANDARD
END:VTIMEZONE
BEGIN:VEVENT
DTSTART;TZID=Europe/London:20200219T080000
DTEND;TZID=Europe/London:20200219T100000
DTSTAMP:20260426T032433
CREATED:20200121T140655Z
LAST-MODIFIED:20200121T140655Z
UID:1398-1582099200-1582106400@cemanchester.org.uk
SUMMARY:Building Regulations – 2020 update
DESCRIPTION:Our seminar programme recently discussed the reform of the regulatory environment its application to the design and construction process and the emerging new responsibilities.  As we move into 2020\, with recent and planned changes to the Regulations falling into place\, we now have a clearer view and much to learn. \nThis seminar\, presented by Richard Cymler\, a Regional Director of CE members Ball and Berry\, will give you an essential overview of the implications of Regulation 7\, the 2019 Approved Document B Volume 1 & 2 and the proposals for Parts F and L 2020 in terms of environmental performance together with procedural changes resulting from the Hackitt Review\, which will all have significant impact on the design of both low and high rise residential buildings in particular. \nRichard is responsible for the management and running of B & B’s Birmingham office\, as well as leading on projects\, maintaining client relationships and identifying new business opportunities. Having worked in the building control sector for more than 35 years\, Richard uses his extensive experience of complex projects\, supporting clients through the challenges of building control\, inspections and regulations. \nFee.  £15.  Free to Members of Constructing Excellence Manchester \nBooking:    Eventbrite booking here
URL:https://cemanchester.org.uk/event/building-regulations-2020-update/
LOCATION:Trowers & Hamlins\, 55 Princess Street\, Manchester\, M2 4EW
END:VEVENT
END:VCALENDAR