BEGIN:VCALENDAR
VERSION:2.0
PRODID:-//Constructing Excellence Manchester - ECPv6.15.17.1//NONSGML v1.0//EN
CALSCALE:GREGORIAN
METHOD:PUBLISH
X-WR-CALNAME:Constructing Excellence Manchester
X-ORIGINAL-URL:https://cemanchester.org.uk
X-WR-CALDESC:Events for Constructing Excellence Manchester
REFRESH-INTERVAL;VALUE=DURATION:PT1H
X-Robots-Tag:noindex
X-PUBLISHED-TTL:PT1H
BEGIN:VTIMEZONE
TZID:Europe/London
BEGIN:DAYLIGHT
TZOFFSETFROM:+0000
TZOFFSETTO:+0100
TZNAME:BST
DTSTART:20220327T010000
END:DAYLIGHT
BEGIN:STANDARD
TZOFFSETFROM:+0100
TZOFFSETTO:+0000
TZNAME:GMT
DTSTART:20221030T010000
END:STANDARD
BEGIN:DAYLIGHT
TZOFFSETFROM:+0000
TZOFFSETTO:+0100
TZNAME:BST
DTSTART:20230326T010000
END:DAYLIGHT
BEGIN:STANDARD
TZOFFSETFROM:+0100
TZOFFSETTO:+0000
TZNAME:GMT
DTSTART:20231029T010000
END:STANDARD
BEGIN:DAYLIGHT
TZOFFSETFROM:+0000
TZOFFSETTO:+0100
TZNAME:BST
DTSTART:20240331T010000
END:DAYLIGHT
BEGIN:STANDARD
TZOFFSETFROM:+0100
TZOFFSETTO:+0000
TZNAME:GMT
DTSTART:20241027T010000
END:STANDARD
END:VTIMEZONE
BEGIN:VEVENT
DTSTART;TZID=Europe/London:20231116T080000
DTEND;TZID=Europe/London:20231116T100000
DTSTAMP:20260423T033432
CREATED:20231108T170511Z
LAST-MODIFIED:20231108T170511Z
UID:14163-1700121600-1700128800@cemanchester.org.uk
SUMMARY:Successfully delivering complex projects across the NHS estate
DESCRIPTION:Meet the Experts \nPlease join the Constructing Excellence Greater Manchester team and our panel for lively discussion. \nThe proceeds of ticket sales will be donated to Cradle charity\, who provide free resources to the NHS and support to anyone affected by pregnancy loss. \nFind out more www.cradlecharity.org Twitter @cradle_charity
URL:https://cemanchester.org.uk/event/successfully-delivering-complex-projects-across-the-nhs-estate/
LOCATION:Greater Manchester Chamber of Commerce\, Manchester\, United Kingdom
ATTACH;FMTTYPE=image/jpeg:https://cemanchester.org.uk/wp-content/uploads/sites/10/2023/11/Constructing-Excellence-Flyer-V3.jpg
END:VEVENT
END:VCALENDAR