BEGIN:VCALENDAR
VERSION:2.0
PRODID:-//Constructing Excellence Manchester - ECPv6.15.17.1//NONSGML v1.0//EN
CALSCALE:GREGORIAN
METHOD:PUBLISH
X-ORIGINAL-URL:https://cemanchester.org.uk
X-WR-CALDESC:Events for Constructing Excellence Manchester
REFRESH-INTERVAL;VALUE=DURATION:PT1H
X-Robots-Tag:noindex
X-PUBLISHED-TTL:PT1H
BEGIN:VTIMEZONE
TZID:Europe/London
BEGIN:DAYLIGHT
TZOFFSETFROM:+0000
TZOFFSETTO:+0100
TZNAME:BST
DTSTART:20230326T010000
END:DAYLIGHT
BEGIN:STANDARD
TZOFFSETFROM:+0100
TZOFFSETTO:+0000
TZNAME:GMT
DTSTART:20231029T010000
END:STANDARD
BEGIN:DAYLIGHT
TZOFFSETFROM:+0000
TZOFFSETTO:+0100
TZNAME:BST
DTSTART:20240331T010000
END:DAYLIGHT
BEGIN:STANDARD
TZOFFSETFROM:+0100
TZOFFSETTO:+0000
TZNAME:GMT
DTSTART:20241027T010000
END:STANDARD
BEGIN:DAYLIGHT
TZOFFSETFROM:+0000
TZOFFSETTO:+0100
TZNAME:BST
DTSTART:20250330T010000
END:DAYLIGHT
BEGIN:STANDARD
TZOFFSETFROM:+0100
TZOFFSETTO:+0000
TZNAME:GMT
DTSTART:20251026T010000
END:STANDARD
END:VTIMEZONE
BEGIN:VEVENT
DTSTART;TZID=Europe/London:20240605T080000
DTEND;TZID=Europe/London:20240605T100000
DTSTAMP:20260422T152630
CREATED:20240429T132208Z
LAST-MODIFIED:20240429T132208Z
UID:15200-1717574400-1717581600@cemanchester.org.uk
SUMMARY:Decarbonising Public Buildings: Do we have the right strategy? To celebrate World Environment day we take a look at some successes and how the PAS2038 standard could support clients.
DESCRIPTION:
URL:https://cemanchester.org.uk/event/decarbonising-public-buildings-do-we-have-the-right-strategy-to-celebrate-world-environment-day-we-take-a-look-at-some-successes-and-how-the-pas2038-standard-could-support-clients/
LOCATION:TBC
END:VEVENT
BEGIN:VEVENT
DTSTART;TZID=Europe/London:20240613T180000
DTEND;TZID=Europe/London:20240613T210000
DTSTAMP:20260422T152630
CREATED:20240517T144223Z
LAST-MODIFIED:20240517T144559Z
UID:15284-1718301600-1718312400@cemanchester.org.uk
SUMMARY:G4C North West Awards
DESCRIPTION:These awards are a celebration of the achievements of the next generation in the North West region and the companies who support and train the future leaders of the industry. \nThe G4C North West awards will be held on 13th June 2024 and will showcase excellence and reward achievement for organisations and individuals who are successfully pushing our industry forward. \nThis event is a great opportunity for companies who wish to be seen as proactively supporting and leading innovation within the built environment.
URL:https://cemanchester.org.uk/event/g4c-north-west-awards/
LOCATION:11 york street\, Manchester\, 11 York street\, Manchester\, Select a State or Province:\, M2 2WA\, United Kingdom
ATTACH;FMTTYPE=image/jpeg:https://cemanchester.org.uk/wp-content/uploads/sites/10/2024/05/Key-Event-Photo.jpg
ORGANIZER;CN="Katy Harris":MAILTO:hello@cemanchester.onmicrosoft.com
END:VEVENT
BEGIN:VEVENT
DTSTART;TZID=Europe/London:20240620T080000
DTEND;TZID=Europe/London:20240620T100000
DTSTAMP:20260422T152630
CREATED:20240206T114714Z
LAST-MODIFIED:20240206T114714Z
UID:14661-1718870400-1718877600@cemanchester.org.uk
SUMMARY:Gold standard frameworks - driving change through the procurement process
DESCRIPTION:Sponsored by University of Salford/Cara EPS
URL:https://cemanchester.org.uk/event/gold-standard-frameworks-driving-change-through-the-procurement-process/
LOCATION:University of Salford – SEE Building\, Salford
ORGANIZER;CN="Emma Millward":MAILTO:emma.millward@tilburydouglas.co.uk
END:VEVENT
END:VCALENDAR