BEGIN:VCALENDAR
VERSION:2.0
PRODID:-//Constructing Excellence Manchester - ECPv6.15.17.1//NONSGML v1.0//EN
CALSCALE:GREGORIAN
METHOD:PUBLISH
X-WR-CALNAME:Constructing Excellence Manchester
X-ORIGINAL-URL:https://cemanchester.org.uk
X-WR-CALDESC:Events for Constructing Excellence Manchester
REFRESH-INTERVAL;VALUE=DURATION:PT1H
X-Robots-Tag:noindex
X-PUBLISHED-TTL:PT1H
BEGIN:VTIMEZONE
TZID:Europe/London
BEGIN:DAYLIGHT
TZOFFSETFROM:+0000
TZOFFSETTO:+0100
TZNAME:BST
DTSTART:20240331T010000
END:DAYLIGHT
BEGIN:STANDARD
TZOFFSETFROM:+0100
TZOFFSETTO:+0000
TZNAME:GMT
DTSTART:20241027T010000
END:STANDARD
BEGIN:DAYLIGHT
TZOFFSETFROM:+0000
TZOFFSETTO:+0100
TZNAME:BST
DTSTART:20250330T010000
END:DAYLIGHT
BEGIN:STANDARD
TZOFFSETFROM:+0100
TZOFFSETTO:+0000
TZNAME:GMT
DTSTART:20251026T010000
END:STANDARD
BEGIN:DAYLIGHT
TZOFFSETFROM:+0000
TZOFFSETTO:+0100
TZNAME:BST
DTSTART:20260329T010000
END:DAYLIGHT
BEGIN:STANDARD
TZOFFSETFROM:+0100
TZOFFSETTO:+0000
TZNAME:GMT
DTSTART:20261025T010000
END:STANDARD
END:VTIMEZONE
BEGIN:VEVENT
DTSTART;TZID=Europe/London:20251010T120000
DTEND;TZID=Europe/London:20251010T130000
DTSTAMP:20260423T113203
CREATED:20250916T141528Z
LAST-MODIFIED:20250923T134456Z
UID:19237-1760097600-1760101200@cemanchester.org.uk
SUMMARY:Free Webinar: Understanding PPN 06/21: Producing a compliant Carbon Reduction Plan
DESCRIPTION:PPN 06/21 sets out the requirement for suppliers bidding on major central government contracts to submit a Carbon Reduction Plan and commit to achieving Net Zero by 2050. But what does this mean in practical terms — especially for SMEs? \nHosted by Turner & Townsend\, this session brings together SME contractors and public sector clients to explore how PPN 06/21 is reshaping procurement and what support is available to help small businesses respond effectively. \nFrom developing credible carbon reduction plans to understanding how clients are embedding carbon requirements into tenders\, we’ll offer clear\, practical advice from both sides of the procurement table. This is a chance for SME suppliers to prepare for future bids — and for clients to engage suppliers in a meaningful\, constructive way that supports net zero goals. \nWhat you’ll gain: \nA breakdown of what PPN 06/21 requires and how it applies to organisations\nPractical support and tools available to help SMEs develop Carbon Reduction Plans\nInsights into how clients are reflecting carbon requirements in tender documents\nAn opportunity to strengthen collaboration between clients and suppliers through Constructing Excellence Manchester’s network \nWhether you’re a contractor looking to stay eligible for public work\, or a client aiming to embed net zero in procurement\, this session delivers essential insight and real value. \nOnce you have got a ticket we will send a link over to you for the webinar.
URL:https://cemanchester.org.uk/event/free-webinar-understanding-ppn-06-21-producing-a-compliant-carbon-reduction-plan/
LOCATION:Online
ATTACH;FMTTYPE=image/jpeg:https://cemanchester.org.uk/wp-content/uploads/sites/10/2025/09/Carbon-Reduction-in-public-procurement-1.jpg
ORGANIZER;CN="Katy Harris":MAILTO:hello@cemanchester.onmicrosoft.com
END:VEVENT
END:VCALENDAR